Package: MouseFM Version: 1.19.1 Command: rm -rf MouseFM.buildbin-libdir && mkdir MouseFM.buildbin-libdir && /Users/biocbuild/BBS/utils/build-universal.sh MouseFM_1.19.1.tar.gz /Library/Frameworks/R.framework/Resources/bin/R MouseFM.buildbin-libdir StartedAt: 2025-10-28 23:07:36 -0400 (Tue, 28 Oct 2025) EndedAt: 2025-10-28 23:07:44 -0400 (Tue, 28 Oct 2025) EllapsedTime: 8.2 seconds RetCode: 0 Status: OK PackageFile: MouseFM_1.19.1.tgz PackageFileSize: 831.4 KiB