Package: MoonlightR Version: 1.35.0 Command: /home/biocbuild/bbs-3.22-bioc/R/bin/R CMD INSTALL MoonlightR StartedAt: 2025-10-24 16:01:12 -0400 (Fri, 24 Oct 2025) EndedAt: 2025-10-24 16:02:03 -0400 (Fri, 24 Oct 2025) EllapsedTime: 51.2 seconds RetCode: 0 Status: OK