Package: MoonlightR Version: 1.36.0 Command: /Library/Frameworks/R.framework/Resources/bin/R CMD INSTALL MoonlightR StartedAt: 2025-10-31 15:29:43 -0400 (Fri, 31 Oct 2025) EndedAt: 2025-10-31 15:30:08 -0400 (Fri, 31 Oct 2025) EllapsedTime: 25.2 seconds RetCode: 0 Status: OK