Package: MoonlightR Version: 1.36.0 Command: rm -rf MoonlightR.buildbin-libdir && mkdir MoonlightR.buildbin-libdir && /Users/biocbuild/BBS/utils/build-universal.sh MoonlightR_1.36.0.tar.gz /Library/Frameworks/R.framework/Resources/bin/R MoonlightR.buildbin-libdir StartedAt: 2025-11-02 23:12:37 -0500 (Sun, 02 Nov 2025) EndedAt: 2025-11-02 23:13:17 -0500 (Sun, 02 Nov 2025) EllapsedTime: 39.7 seconds RetCode: 0 Status: OK PackageFile: MoonlightR_1.36.0.tgz PackageFileSize: 9.923 MiB