Package: Moonlight2R Version: 1.7.4 Command: /home/biocbuild/bbs-3.22-bioc/R/bin/R CMD INSTALL Moonlight2R StartedAt: 2025-10-24 15:59:25 -0400 (Fri, 24 Oct 2025) EndedAt: 2025-10-24 16:00:18 -0400 (Fri, 24 Oct 2025) EllapsedTime: 52.4 seconds RetCode: 0 Status: OK