Package: Moonlight2R Version: 1.7.4 Command: /home/biocbuild/bbs-3.22-bioc/R/bin/R CMD build --keep-empty-dirs --no-resave-data --md5 Moonlight2R StartedAt: 2025-10-24 18:56:38 -0400 (Fri, 24 Oct 2025) EndedAt: 2025-10-24 19:02:37 -0400 (Fri, 24 Oct 2025) EllapsedTime: 359.3 seconds RetCode: 0 Status: OK PackageFile: Moonlight2R_1.7.4.tar.gz PackageFileSize: 4.949 MiB