Package: MoleculeExperiment Version: 1.9.0 Command: /home/biocbuild/bbs-3.22-bioc/R/bin/R CMD INSTALL MoleculeExperiment StartedAt: 2025-10-24 15:34:07 -0400 (Fri, 24 Oct 2025) EndedAt: 2025-10-24 15:34:48 -0400 (Fri, 24 Oct 2025) EllapsedTime: 40.6 seconds RetCode: 0 Status: OK