Package: MoleculeExperiment Version: 1.9.0 Command: /home/biocbuild/bbs-3.22-bioc/R/bin/R CMD build --keep-empty-dirs --no-resave-data --md5 MoleculeExperiment StartedAt: 2025-10-24 18:55:59 -0400 (Fri, 24 Oct 2025) EndedAt: 2025-10-24 18:57:52 -0400 (Fri, 24 Oct 2025) EllapsedTime: 113.1 seconds RetCode: 0 Status: OK PackageFile: MoleculeExperiment_1.9.0.tar.gz PackageFileSize: 15.59 MiB