Package: Modstrings Version: 1.25.0 Command: /home/biocbuild/R/R/bin/R CMD INSTALL Modstrings StartedAt: 2025-10-23 20:34:55 -0000 (Thu, 23 Oct 2025) EndedAt: 2025-10-23 20:35:18 -0000 (Thu, 23 Oct 2025) EllapsedTime: 22.8 seconds RetCode: 0 Status: OK