Package: Modstrings Version: 1.25.0 Command: /home/biocbuild/R/R/bin/R CMD build --keep-empty-dirs --no-resave-data Modstrings StartedAt: 2025-10-21 01:23:20 -0000 (Tue, 21 Oct 2025) EndedAt: 2025-10-21 01:23:58 -0000 (Tue, 21 Oct 2025) EllapsedTime: 38.0 seconds RetCode: 0 Status: OK PackageFile: Modstrings_1.25.0.tar.gz PackageFileSize: 952.5 KiB