Package: Modstrings Version: 1.25.0 Command: /Library/Frameworks/R.framework/Resources/bin/R CMD INSTALL Modstrings StartedAt: 2025-10-24 15:25:26 -0400 (Fri, 24 Oct 2025) EndedAt: 2025-10-24 15:25:51 -0400 (Fri, 24 Oct 2025) EllapsedTime: 24.8 seconds RetCode: 0 Status: OK