Package: Modstrings Version: 1.25.0 Command: /Library/Frameworks/R.framework/Resources/bin/R CMD build --keep-empty-dirs --no-resave-data Modstrings StartedAt: 2025-10-24 17:51:28 -0400 (Fri, 24 Oct 2025) EndedAt: 2025-10-24 17:52:08 -0400 (Fri, 24 Oct 2025) EllapsedTime: 40.0 seconds RetCode: 0 Status: OK PackageFile: Modstrings_1.25.0.tar.gz PackageFileSize: 823.5 KiB