Package: Modstrings Version: 1.25.0 Command: rm -rf Modstrings.buildbin-libdir && mkdir Modstrings.buildbin-libdir && /Users/biocbuild/BBS/utils/build-universal.sh Modstrings_1.25.0.tar.gz /Library/Frameworks/R.framework/Resources/bin/R Modstrings.buildbin-libdir StartedAt: 2025-10-25 01:50:38 -0400 (Sat, 25 Oct 2025) EndedAt: 2025-10-25 01:51:07 -0400 (Sat, 25 Oct 2025) EllapsedTime: 28.6 seconds RetCode: 0 Status: OK PackageFile: Modstrings_1.25.0.tgz PackageFileSize: 1.353 MiB