Package: Modstrings Version: 1.25.0 Command: /Library/Frameworks/R.framework/Resources/bin/R CMD check --install=check:Modstrings.install-out.txt --library=/Library/Frameworks/R.framework/Resources/library --no-vignettes --timings Modstrings_1.25.0.tar.gz StartedAt: 2025-10-24 20:48:26 -0400 (Fri, 24 Oct 2025) EndedAt: 2025-10-24 20:49:13 -0400 (Fri, 24 Oct 2025) EllapsedTime: 47.5 seconds RetCode: 0 Status: OK CheckDir: Modstrings.Rcheck Warnings: 0