Package: Modstrings Version: 1.25.0 Command: rm -rf Modstrings.buildbin-libdir && mkdir Modstrings.buildbin-libdir && /Users/biocbuild/BBS/utils/build-universal.sh Modstrings_1.25.0.tar.gz /Library/Frameworks/R.framework/Resources/bin/R Modstrings.buildbin-libdir StartedAt: 2025-10-24 23:10:37 -0400 (Fri, 24 Oct 2025) EndedAt: 2025-10-24 23:10:45 -0400 (Fri, 24 Oct 2025) EllapsedTime: 8.2 seconds RetCode: 0 Status: OK PackageFile: Modstrings_1.25.0.tgz PackageFileSize: 1.356 MiB