Package: Modstrings Version: 1.25.0 Maintainer: Felix G.M. Ernst MaintainerEmail: felix.gm.ernst at outlook.com git_url: https://git.bioconductor.org/packages/Modstrings git_branch: devel git_last_commit: 903d279 git_last_commit_date: 2025-09-23 07:52:32 -0400 (Tue, 23 Sep 2025)