Package: ModCon Version: 1.17.0 Command: /Library/Frameworks/R.framework/Resources/bin/R CMD build --keep-empty-dirs --no-resave-data ModCon StartedAt: 2025-10-24 17:51:14 -0400 (Fri, 24 Oct 2025) EndedAt: 2025-10-24 17:53:08 -0400 (Fri, 24 Oct 2025) EllapsedTime: 113.9 seconds RetCode: 0 Status: OK PackageFile: ModCon_1.17.0.tar.gz PackageFileSize: 1.912 MiB