Package: ModCon Version: 1.17.0 Command: /Library/Frameworks/R.framework/Resources/bin/R CMD build --keep-empty-dirs --no-resave-data ModCon StartedAt: 2025-10-26 17:15:03 -0400 (Sun, 26 Oct 2025) EndedAt: 2025-10-26 17:15:39 -0400 (Sun, 26 Oct 2025) EllapsedTime: 36.4 seconds RetCode: 0 Status: OK PackageFile: ModCon_1.17.0.tar.gz PackageFileSize: 1.912 MiB