Package: MinimumDistance Version: 1.53.1 Command: /Library/Frameworks/R.framework/Resources/bin/R CMD INSTALL MinimumDistance StartedAt: 2025-10-26 15:19:10 -0400 (Sun, 26 Oct 2025) EndedAt: 2025-10-26 15:19:30 -0400 (Sun, 26 Oct 2025) EllapsedTime: 19.8 seconds RetCode: 0 Status: OK