Package: MinimumDistance Version: 1.53.1 Command: /Library/Frameworks/R.framework/Resources/bin/R CMD build --keep-empty-dirs --no-resave-data MinimumDistance StartedAt: 2025-10-26 17:12:55 -0400 (Sun, 26 Oct 2025) EndedAt: 2025-10-26 17:13:26 -0400 (Sun, 26 Oct 2025) EllapsedTime: 31.3 seconds RetCode: 0 Status: OK PackageFile: MinimumDistance_1.53.1.tar.gz PackageFileSize: 2.553 MiB