Package: MinimumDistance Version: 1.53.1 Command: rm -rf MinimumDistance.buildbin-libdir && mkdir MinimumDistance.buildbin-libdir && /Users/biocbuild/BBS/utils/build-universal.sh MinimumDistance_1.53.1.tar.gz /Library/Frameworks/R.framework/Resources/bin/R MinimumDistance.buildbin-libdir StartedAt: 2025-10-26 22:41:15 -0400 (Sun, 26 Oct 2025) EndedAt: 2025-10-26 22:41:35 -0400 (Sun, 26 Oct 2025) EllapsedTime: 20.4 seconds RetCode: 0 Status: OK PackageFile: MinimumDistance_1.53.1.tgz PackageFileSize: 3.656 MiB