Package: MicrobiotaProcess Version: 1.22.0 Command: /home/biocbuild/bbs-3.22-bioc/R/bin/R CMD check --install=check:MicrobiotaProcess.install-out.txt --library=/home/biocbuild/bbs-3.22-bioc/R/site-library --timings MicrobiotaProcess_1.22.0.tar.gz StartedAt: 2025-11-21 02:08:00 -0500 (Fri, 21 Nov 2025) EndedAt: 2025-11-21 02:15:07 -0500 (Fri, 21 Nov 2025) EllapsedTime: 427.4 seconds RetCode: 0 Status: OK CheckDir: MicrobiotaProcess.Rcheck Warnings: 0