Package: MicrobiotaProcess Version: 1.21.2 Command: /home/biocbuild/bbs-3.22-bioc/R/bin/R CMD build --keep-empty-dirs --no-resave-data --md5 MicrobiotaProcess StartedAt: 2025-10-24 18:50:14 -0400 (Fri, 24 Oct 2025) EndedAt: 2025-10-24 18:52:52 -0400 (Fri, 24 Oct 2025) EllapsedTime: 158.2 seconds RetCode: 0 Status: OK PackageFile: MicrobiotaProcess_1.21.2.tar.gz PackageFileSize: 4.84 MiB