Package: MicrobiotaProcess Version: 1.22.0 Command: /Library/Frameworks/R.framework/Resources/bin/R CMD INSTALL MicrobiotaProcess StartedAt: 2025-11-03 15:24:25 -0500 (Mon, 03 Nov 2025) EndedAt: 2025-11-03 15:25:51 -0500 (Mon, 03 Nov 2025) EllapsedTime: 86.0 seconds RetCode: 0 Status: OK