Package: MicrobiotaProcess Version: 1.22.0 Command: /Library/Frameworks/R.framework/Resources/bin/R CMD build --keep-empty-dirs --no-resave-data MicrobiotaProcess StartedAt: 2025-11-02 17:47:52 -0500 (Sun, 02 Nov 2025) EndedAt: 2025-11-02 17:51:05 -0500 (Sun, 02 Nov 2025) EllapsedTime: 193.2 seconds RetCode: 0 Status: OK PackageFile: MicrobiotaProcess_1.22.0.tar.gz PackageFileSize: 5.023 MiB