Package: MicrobiotaProcess Version: 1.22.0 Command: rm -rf MicrobiotaProcess.buildbin-libdir && mkdir MicrobiotaProcess.buildbin-libdir && /Users/biocbuild/BBS/utils/build-universal.sh MicrobiotaProcess_1.22.0.tar.gz /Library/Frameworks/R.framework/Resources/bin/R MicrobiotaProcess.buildbin-libdir StartedAt: 2025-11-01 01:43:33 -0400 (Sat, 01 Nov 2025) EndedAt: 2025-11-01 01:45:05 -0400 (Sat, 01 Nov 2025) EllapsedTime: 92.1 seconds RetCode: 0 Status: OK PackageFile: MicrobiotaProcess_1.22.0.tgz PackageFileSize: 5.78 MiB