Package: MicrobiotaProcess Version: 1.21.2 Command: /Library/Frameworks/R.framework/Resources/bin/R CMD build --keep-empty-dirs --no-resave-data MicrobiotaProcess StartedAt: 2025-10-24 17:02:14 -0400 (Fri, 24 Oct 2025) EndedAt: 2025-10-24 17:03:14 -0400 (Fri, 24 Oct 2025) EllapsedTime: 60.6 seconds RetCode: 0 Status: OK PackageFile: MicrobiotaProcess_1.21.2.tar.gz PackageFileSize: 5.023 MiB