Package: MicrobiotaProcess Version: 1.21.2 Command: rm -rf MicrobiotaProcess.buildbin-libdir && mkdir MicrobiotaProcess.buildbin-libdir && /Users/biocbuild/BBS/utils/build-universal.sh MicrobiotaProcess_1.21.2.tar.gz /Library/Frameworks/R.framework/Resources/bin/R MicrobiotaProcess.buildbin-libdir StartedAt: 2025-10-24 23:09:53 -0400 (Fri, 24 Oct 2025) EndedAt: 2025-10-24 23:10:17 -0400 (Fri, 24 Oct 2025) EllapsedTime: 24.5 seconds RetCode: 0 Status: OK PackageFile: MicrobiotaProcess_1.21.2.tgz PackageFileSize: 5.783 MiB