Package: MicrobiotaProcess Version: 1.22.0 Maintainer: Shuangbin Xu MaintainerEmail: xshuangbin at 163.com git_url: https://git.bioconductor.org/packages/MicrobiotaProcess git_branch: RELEASE_3_22 git_last_commit: 659114b git_last_commit_date: 2025-10-29 10:58:25 -0400 (Wed, 29 Oct 2025)