Package: MicrobiomeProfiler Version: 1.16.0 Command: /Library/Frameworks/R.framework/Resources/bin/R CMD build --keep-empty-dirs --no-resave-data MicrobiomeProfiler StartedAt: 2025-11-02 17:47:52 -0500 (Sun, 02 Nov 2025) EndedAt: 2025-11-02 17:48:27 -0500 (Sun, 02 Nov 2025) EllapsedTime: 34.3 seconds RetCode: 0 Status: OK PackageFile: MicrobiomeProfiler_1.16.0.tar.gz PackageFileSize: 1.051 MiB