Package: MicrobiomeProfiler Version: 1.15.0 Command: rm -rf MicrobiomeProfiler.buildbin-libdir && mkdir MicrobiomeProfiler.buildbin-libdir && /Users/biocbuild/BBS/utils/build-universal.sh MicrobiomeProfiler_1.15.0.tar.gz /Library/Frameworks/R.framework/Resources/bin/R MicrobiomeProfiler.buildbin-libdir StartedAt: 2025-10-24 23:09:50 -0400 (Fri, 24 Oct 2025) EndedAt: 2025-10-24 23:10:01 -0400 (Fri, 24 Oct 2025) EllapsedTime: 11.2 seconds RetCode: 0 Status: OK PackageFile: MicrobiomeProfiler_1.15.0.tgz PackageFileSize: 949.3 KiB