Package: MicrobiomeProfiler Version: 1.16.0 Maintainer: Guangchuang Yu MaintainerEmail: guangchuangyu at gmail.com git_url: https://git.bioconductor.org/packages/MicrobiomeProfiler git_branch: RELEASE_3_22 git_last_commit: 0abe0d0 git_last_commit_date: 2025-10-29 11:12:46 -0500 (Wed, 29 Oct 2025)