Package: MiRaGE Version: 1.52.0 Command: /home/biocbuild/bbs-3.22-bioc/R/bin/R CMD INSTALL MiRaGE StartedAt: 2025-10-29 22:16:32 -0400 (Wed, 29 Oct 2025) EndedAt: 2025-10-29 22:16:44 -0400 (Wed, 29 Oct 2025) EllapsedTime: 12.2 seconds RetCode: 0 Status: OK