Package: MiPP Version: 1.81.0 Command: /home/biocbuild/bbs-3.22-bioc/R/bin/R CMD INSTALL MiPP StartedAt: 2025-10-24 15:23:49 -0400 (Fri, 24 Oct 2025) EndedAt: 2025-10-24 15:23:53 -0400 (Fri, 24 Oct 2025) EllapsedTime: 4.1 seconds RetCode: 0 Status: OK