Package: MiChip Version: 1.63.0 Command: /home/biocbuild/bbs-3.22-bioc/R/bin/R CMD INSTALL MiChip StartedAt: 2025-10-24 15:23:16 -0400 (Fri, 24 Oct 2025) EndedAt: 2025-10-24 15:23:19 -0400 (Fri, 24 Oct 2025) EllapsedTime: 3.2 seconds RetCode: 0 Status: OK