Package: MiChip Version: 1.63.0 Command: /home/biocbuild/bbs-3.22-bioc/R/bin/R CMD build --keep-empty-dirs --no-resave-data --md5 MiChip StartedAt: 2025-10-24 18:49:38 -0400 (Fri, 24 Oct 2025) EndedAt: 2025-10-24 18:49:48 -0400 (Fri, 24 Oct 2025) EllapsedTime: 10.0 seconds RetCode: 0 Status: OK PackageFile: MiChip_1.63.0.tar.gz PackageFileSize: 652.4 KiB