Package: Mfuzz Version: 2.69.0 Command: /home/biocbuild/bbs-3.22-bioc/R/bin/R CMD INSTALL Mfuzz StartedAt: 2025-10-24 15:24:34 -0400 (Fri, 24 Oct 2025) EndedAt: 2025-10-24 15:24:39 -0400 (Fri, 24 Oct 2025) EllapsedTime: 5.6 seconds RetCode: 0 Status: OK