Package: MethylSeekR Version: 1.49.3 Command: /home/biocbuild/bbs-3.22-bioc/R/bin/R CMD INSTALL MethylSeekR StartedAt: 2025-10-27 15:30:58 -0400 (Mon, 27 Oct 2025) EndedAt: 2025-10-27 15:31:29 -0400 (Mon, 27 Oct 2025) EllapsedTime: 31.2 seconds RetCode: 0 Status: OK