Package: MethylSeekR Version: 1.49.3 Command: /home/biocbuild/bbs-3.22-bioc/R/bin/R CMD build --keep-empty-dirs --no-resave-data --md5 MethylSeekR StartedAt: 2025-10-24 18:47:23 -0400 (Fri, 24 Oct 2025) EndedAt: 2025-10-24 18:49:15 -0400 (Fri, 24 Oct 2025) EllapsedTime: 112.1 seconds RetCode: 0 Status: OK PackageFile: MethylSeekR_1.49.3.tar.gz PackageFileSize: 1.588 MiB