Package: MethylMix Version: 2.39.0 Command: /home/biocbuild/bbs-3.22-bioc/R/bin/R CMD INSTALL MethylMix StartedAt: 2025-10-24 15:18:16 -0400 (Fri, 24 Oct 2025) EndedAt: 2025-10-24 15:18:27 -0400 (Fri, 24 Oct 2025) EllapsedTime: 11.2 seconds RetCode: 0 Status: OK