Package: MethylAid Version: 1.43.0 Command: /home/biocbuild/bbs-3.22-bioc/R/bin/R CMD build --keep-empty-dirs --no-resave-data --md5 MethylAid StartedAt: 2025-10-24 18:44:55 -0400 (Fri, 24 Oct 2025) EndedAt: 2025-10-24 18:47:19 -0400 (Fri, 24 Oct 2025) EllapsedTime: 143.1 seconds RetCode: 0 Status: OK PackageFile: MethylAid_1.43.0.tar.gz PackageFileSize: 3.014 MiB