Package: MethTargetedNGS Version: 1.41.0 Command: /home/biocbuild/bbs-3.22-bioc/R/bin/R CMD INSTALL MethTargetedNGS StartedAt: 2025-10-27 15:51:49 -0400 (Mon, 27 Oct 2025) EndedAt: 2025-10-27 15:52:01 -0400 (Mon, 27 Oct 2025) EllapsedTime: 11.6 seconds RetCode: 0 Status: OK