Package: MethTargetedNGS Version: 1.41.0 Command: /home/biocbuild/bbs-3.22-bioc/R/bin/R CMD check --install=check:MethTargetedNGS.install-out.txt --library=/home/biocbuild/bbs-3.22-bioc/R/site-library --timings MethTargetedNGS_1.41.0.tar.gz StartedAt: 2025-10-28 01:19:44 -0400 (Tue, 28 Oct 2025) EndedAt: 2025-10-28 01:21:22 -0400 (Tue, 28 Oct 2025) EllapsedTime: 98.1 seconds RetCode: 0 Status: OK CheckDir: MethTargetedNGS.Rcheck Warnings: 0