Package: MethTargetedNGS Version: 1.41.0 Command: /home/biocbuild/bbs-3.22-bioc/R/bin/R CMD build --keep-empty-dirs --no-resave-data --md5 MethTargetedNGS StartedAt: 2025-10-27 18:35:15 -0400 (Mon, 27 Oct 2025) EndedAt: 2025-10-27 18:35:36 -0400 (Mon, 27 Oct 2025) EllapsedTime: 21.0 seconds RetCode: 0 Status: OK PackageFile: MethTargetedNGS_1.41.0.tar.gz PackageFileSize: 283.5 KiB