Package: MethTargetedNGS Version: 1.41.0 Command: rm -rf MethTargetedNGS.buildbin-libdir && mkdir MethTargetedNGS.buildbin-libdir && /Users/biocbuild/BBS/utils/build-universal.sh MethTargetedNGS_1.41.0.tar.gz /Library/Frameworks/R.framework/Resources/bin/R MethTargetedNGS.buildbin-libdir StartedAt: 2025-10-25 01:49:01 -0400 (Sat, 25 Oct 2025) EndedAt: 2025-10-25 01:49:21 -0400 (Sat, 25 Oct 2025) EllapsedTime: 19.7 seconds RetCode: 0 Status: OK PackageFile: MethTargetedNGS_1.41.0.tgz PackageFileSize: 322.8 KiB