Package: MethTargetedNGS Version: 1.41.0 Command: /Library/Frameworks/R.framework/Resources/bin/R CMD INSTALL MethTargetedNGS StartedAt: 2025-10-27 15:27:15 -0400 (Mon, 27 Oct 2025) EndedAt: 2025-10-27 15:27:20 -0400 (Mon, 27 Oct 2025) EllapsedTime: 5.2 seconds RetCode: 0 Status: OK