Package: MethTargetedNGS Version: 1.41.0 Command: rm -rf MethTargetedNGS.buildbin-libdir && mkdir MethTargetedNGS.buildbin-libdir && /Users/biocbuild/BBS/utils/build-universal.sh MethTargetedNGS_1.41.0.tar.gz /Library/Frameworks/R.framework/Resources/bin/R MethTargetedNGS.buildbin-libdir StartedAt: 2025-10-27 23:08:45 -0400 (Mon, 27 Oct 2025) EndedAt: 2025-10-27 23:08:51 -0400 (Mon, 27 Oct 2025) EllapsedTime: 6.1 seconds RetCode: 0 Status: OK PackageFile: MethTargetedNGS_1.41.0.tgz PackageFileSize: 323.9 KiB