Package: MethReg Version: 1.19.0 Command: /home/biocbuild/bbs-3.22-bioc/R/bin/R CMD INSTALL MethReg StartedAt: 2025-10-24 16:07:04 -0400 (Fri, 24 Oct 2025) EndedAt: 2025-10-24 16:07:54 -0400 (Fri, 24 Oct 2025) EllapsedTime: 49.4 seconds RetCode: 0 Status: OK