Package: MethReg Version: 1.19.0 Command: /home/biocbuild/bbs-3.22-bioc/R/bin/R CMD build --keep-empty-dirs --no-resave-data --md5 MethReg StartedAt: 2025-10-24 18:44:22 -0400 (Fri, 24 Oct 2025) EndedAt: 2025-10-24 18:53:00 -0400 (Fri, 24 Oct 2025) EllapsedTime: 517.4 seconds RetCode: 0 Status: OK PackageFile: MethReg_1.19.0.tar.gz PackageFileSize: 5.203 MiB