Package: MethReg Version: 1.20.0 Command: /Library/Frameworks/R.framework/Resources/bin/R CMD INSTALL MethReg StartedAt: 2025-11-10 15:28:15 -0500 (Mon, 10 Nov 2025) EndedAt: 2025-11-10 15:28:37 -0500 (Mon, 10 Nov 2025) EllapsedTime: 21.6 seconds RetCode: 0 Status: OK